BEGIN:VCALENDAR
VERSION:2.0
PRODID:-//wp-events-plugin.com//7.2.3.1//EN
TZID:Europe/Amsterdam
X-WR-TIMEZONE:Europe/Amsterdam
BEGIN:VEVENT
UID:98@stag-club.nl
DTSTART;TZID=Europe/Amsterdam:20240511T093000
DTEND;TZID=Europe/Amsterdam:20240511T183000
DTSTAMP:20240219T143943Z
URL:https://www.stag-club.nl/events/triumph-brabant-rit-2024/
SUMMARY:Triumph Brabant Rit 2024
DESCRIPTION:[caption id="attachment_4752" align="alignright" width="300"] B
 rabants landschap[/caption]\n\nTRiumph Brabant Rit. 11 mei 2024. Start in 
 Esbeek (Noord-Brabant)\n\n. Ochtend- en middagtraject. Totaal zo’n 125 k
 m. lekker toeren door een prachtige Brabants landschap. Lunch en finish me
 t uitslag in Vessem. Inschrijfgeld +/-30 euro p.p. inclusief lekkere lunch
 .\n\nTRBR\, de ‘Triumph Brabant Rit’ (anno 2002) staat ook dit jaar we
 er op de planning en wel op zaterdag 11 mei 2024. Deze rit wordt georganis
 eerd vanuit de TR Club Holland in samenwerking met Club Triumph Holland ma
 ar is toegankelijk voor andere Triumph's. Het wordt weer een leuke\, uitda
 gende rit op basis van diverse opdrachten\, diverse ‘systemen’ zoals d
 ie in de klassieke rally-en rittensport worden gebruikt. Maar dan wel op e
 en eenvoudige\, niet moeilijke manier. Iedereen kan weer meedoen. Zelfs de
  navigator kan ruimschoots genieten van de mooie omgeving! Vooraf aan de 
 rit ontvangen alle deelnemers ‘tekst &amp\; uitleg’ van de opdrachten 
 tijdens de rit.\n\nHet organiseren van zo’n rit op maat kost het nodige 
 werk en tijd maar na een korte inventarisatie onder de trouwe TRBR rijders
  zijn er direct al voldoende reacties gekomen om de ‘Triumph Brabant Rit
 ’ ook dit jaar weer te organiseren! Dus zaterdag 11 mei gaan we weer van
  start vanuit Esbeek (onder Tilburg). We rijden een ochtend- en een middag
 deel. Elk met drie trajecten op basis van verschillende opdrachten. Reken 
 dit jaar op ‘bol-pijl’ met en zonder afstanden\, ‘grensbenadering\, 
 ‘pijlen kortste route’\, ‘punten rit’\, ‘ingetekende lijn’ en 
 nog een paar verrassingen. Niet te moeilijk\, het is echt voor iedereen te
  doen. Maar natuurlijk wel met een paar ‘instinkers’. Tussen het ochte
 nd- en middagdeel hebben we een lekkere lunch halverwege. Rond 16.00 uur z
 ijn we weer bij de finish in Vessem voor de ‘tekst &amp\; uitleg’ met 
 rallyborrel. En voor iedereen weer prijs.\n\nVoor de echte ‘beginners’
  is er op 4 mei nog een korte ritten / rally cursus in Son (NB). Inschrijv
 en hiervoor via de regiocoördinatoren Hans van Mensvoort (TRCH) en René 
 Hustinx (CTH).\n\nInschrijven voor de ‘Triumph Brabant Rit 2024’ graag
  via TRBR2024@delta.nl Deelname kosten inclusief koffie bij aankomst\, lun
 chbuffet\, routeboeken\, aandenken ook dit jaar €60\,-- per equipe.\n\nN
 amens de organisatie: Jaap Sanders\, 06-5111.27.07
LOCATION:Esbeek\, esbeek\, Esbeek\, Nederland\, Nederland
GEO:51.462248;5.137068
X-APPLE-STRUCTURED-LOCATION;VALUE=URI;X-ADDRESS=esbeek\, Esbeek\, Nederland
 \, Nederland;X-APPLE-RADIUS=100;X-TITLE=Esbeek:geo:51.462248,5.137068
END:VEVENT
BEGIN:VTIMEZONE
TZID:Europe/Amsterdam
X-LIC-LOCATION:Europe/Amsterdam
BEGIN:DAYLIGHT
DTSTART:20240331T030000
TZOFFSETFROM:+0100
TZOFFSETTO:+0200
TZNAME:CEST
END:DAYLIGHT
END:VTIMEZONE
END:VCALENDAR