BEGIN:VCALENDAR
VERSION:2.0
PRODID:-//wp-events-plugin.com//7.2.3.1//EN
TZID:Europe/Amsterdam
X-WR-TIMEZONE:Europe/Amsterdam
BEGIN:VEVENT
UID:120@stag-club.nl
DTSTART;TZID=Europe/Amsterdam:20250412T100000
DTEND;TZID=Europe/Amsterdam:20250412T150000
DTSTAMP:20250409T150517Z
URL:https://www.stag-club.nl/events/sleuteldag-zaltbommel-2025/
SUMMARY:Sleuteldag Zaltbommel 2025
DESCRIPTION:Inmiddels een echte traditional van de CTH\, wij zijn de tel kw
 ijt de hoeveelste editie dit wordt… Het voorjaar zonder sleuteldag\, dat
  laat zich in Regio Zuid moeilijk voorstellen. Net als in de afgelopen jar
 en wordt deze technische meeting gehouden in en rondom de garage van Theo 
 Ouborg op de Lijsterlaan 4 in Zaltbommel. Ook toegankelijk voor Stag rijd
 ers!\n\n[caption id="attachment_5270" align="alignleft" width="300"] Beeld
  van de sleuteldag 2024[/caption]\n\nVanaf 10.00 uur tot circa 15.00 uur k
 un je terecht\n\nvoor technische support voor jouw Triumph. Heb je de auto
  net uit zijn winterslaap gehaald en ervaar je specifieke problemen of kla
 chten\, waarbij extra technische hulp gewenst is? Reis dan af naar Zaltbom
 mel. Er worden geen motorblokken gerestaureerd of auto’s strak gemaakt e
 n zo. Maar gewoon hulp geboden om leden wegwijs te maken in en met hun Tri
 umph. Denk dan aan remmen\, ontsteking\, verlichting etc..\n\nOm meerdere 
 problemen tegelijk te kunnen aanpakken zullen ook leden van de CTH technis
 che commissie weer aanwezig zijn. Laat vooraf even weten dat je komt\, zod
 at het team zich kan voorbereiden op een klus. Er is gereedschap\, Engels 
 en metrisch\, ook speciaal gereedschap\, takels\, bokken etc. en zelfs een
  hefbrug. En heb je geen klachten\, maar wil je gewoon gezellig meekijken?
  Dat kan uiteraard ook.\n\nAanmelden s.v.p. bij Theo Ouborg op 06 – 53 2
 9 05 63 of theo.ouborg@gmail.com
LOCATION:Theo Ouborg\, Lijsterlaan 4\, Zaltbommel\, Nederland
GEO:51.801662;5.245739
X-APPLE-STRUCTURED-LOCATION;VALUE=URI;X-ADDRESS=Lijsterlaan 4\, Zaltbommel\
 , Nederland;X-APPLE-RADIUS=100;X-TITLE=Theo Ouborg:geo:51.801662,5.245739
END:VEVENT
BEGIN:VTIMEZONE
TZID:Europe/Amsterdam
X-LIC-LOCATION:Europe/Amsterdam
BEGIN:DAYLIGHT
DTSTART:20250330T030000
TZOFFSETFROM:+0100
TZOFFSETTO:+0200
TZNAME:CEST
END:DAYLIGHT
END:VTIMEZONE
END:VCALENDAR