BEGIN:VCALENDAR
VERSION:2.0
PRODID:-//wp-events-plugin.com//7.2.3.1//EN
TZID:Europe/Amsterdam
X-WR-TIMEZONE:Europe/Amsterdam
BEGIN:VEVENT
UID:121@stag-club.nl
DTSTART;TZID=Europe/Amsterdam:20251005T100000
DTEND;TZID=Europe/Amsterdam:20251005T170000
DTSTAMP:20250905T091503Z
URL:https://www.stag-club.nl/events/rit-oss-en-omgeving/
SUMMARY:Rit Oss en omgeving
DESCRIPTION:[caption id="attachment_5457" align="alignright" width="300"] s
 tartlocatie[/caption]\n\nHet is weer tijd voor een mooie rit in het mooie 
 zuiden van ons land en wel op 5 oktober a.s. gaan we de omgeving van Oss-D
 en Bosch-Veghel-Uden verkennen.\nDe ontvangst is vanaf 10.00 in restaurant
  Strand Tien\, Gielekespad 10\, 5343 XN Oss.\nDeze locatie is een paar min
 uten gelegen vanaf de snelweg\, voor het restaurant is een groot parkeerte
 rrein om onze bolides tijdelijk te laten rusten.\n\n[caption id="attachmen
 t_5456" align="alignleft" width="300"] kasteel Heeswijk[/caption]\n\nNa de
  lekkere koffie met appelgebak\, het welkomstwoord en de uitleg van de rit
 \, gaan we tegen 11.00 op pad. Een afwisselende route door de polder\, lan
 gs de Maas\, via de bossen komen we rond de middag aan bij Kasteel Heeswij
 k-Dinther\, waar we rond 12.30 (op eigen kosten) gaan lunchen.\n\nNa de mi
 ddag kun je de middagroute rijden of optioneel ook kiezen om rond het kast
 eel te wandelen. Voor diegene met een museumjaarkaart is het kasteel grati
 s te bezoeken\, anders kost een bezoek 13 euro.\n\nWe verwachten je wel we
 er om 15.30 in Strand Tien voor de borrel en het afscheid.\n\nOpgeven graa
 g via de mail: fam.debuck@ziggo.nl o.v.v. de namen en het mobiele nummer.
LOCATION:restaurant Strand Tien\, Gielekespad 10\, Oss\, 5343 XN\, Nederlan
 d
GEO:51.742913;5.498974
X-APPLE-STRUCTURED-LOCATION;VALUE=URI;X-ADDRESS=Gielekespad 10\, Oss\, 5343
  XN\, Nederland;X-APPLE-RADIUS=100;X-TITLE=restaurant Strand Tien:geo:51.7
 42913,5.498974
END:VEVENT
BEGIN:VTIMEZONE
TZID:Europe/Amsterdam
X-LIC-LOCATION:Europe/Amsterdam
BEGIN:DAYLIGHT
DTSTART:20250330T030000
TZOFFSETFROM:+0100
TZOFFSETTO:+0200
TZNAME:CEST
END:DAYLIGHT
END:VTIMEZONE
END:VCALENDAR