BEGIN:VCALENDAR
VERSION:2.0
PRODID:-//wp-events-plugin.com//7.2.3.1//EN
TZID:Europe/Amsterdam
X-WR-TIMEZONE:Europe/Amsterdam
BEGIN:VEVENT
UID:103@stag-club.nl
DTSTART;TZID=Europe/Amsterdam:20240908T113000
DTEND;TZID=Europe/Amsterdam:20240908T170000
DTSTAMP:20240708T155615Z
URL:https://www.stag-club.nl/events/oppepper4all-passion-on-wheels/
SUMMARY:OPPEPPER4ALL - PASSION ON WHEELS
DESCRIPTION:Op 08 september vanaf 11.30 uur tot 17:00 uur wordt een tourrit
  aangeboden van ongeveer 60 km over de Utrechtse Heuvelrug\, met de bedoel
 ing dat de rijder een chronisch zieke patiënt meeneemt en hem/haar een on
 vergetelijke dag bezorgt. Startpunt bij ABRONA\, Sterrenberglaan 6\, Huis 
 ter Heide.\n\nKosten voor deze dag zijn € 35\,- per auto (meer mag ook)\
 , waarbij deze bijdrage naar Oppepper4all gaat. Aanmeldingen tot medio jul
 i.\n\nVoor de ‘vaste bijrijder’ is plaats in een Amerikaans schoolbus.
  Sponsoren zorgen voor rally schildjes\, handgemaakte herinneringsbeker\, 
 de inwendige mens en overige attenties.\nVoor verdere details: https://ww
 w.oppepper4all.nl/passion-on-wheels/\nMail: bestuur@oppepper4all.nl of p
 er telefoon: 030-7857911.
LOCATION:Abrona - Huis ter Heide\, Sterrenberglaan 10\, Huis ter Heide\, Ne
 derland
GEO:52.115793;5.275524
X-APPLE-STRUCTURED-LOCATION;VALUE=URI;X-ADDRESS=Sterrenberglaan 10\, Huis t
 er Heide\, Nederland;X-APPLE-RADIUS=100;X-TITLE=Abrona - Huis ter Heide:ge
 o:52.115793,5.275524
END:VEVENT
BEGIN:VTIMEZONE
TZID:Europe/Amsterdam
X-LIC-LOCATION:Europe/Amsterdam
BEGIN:DAYLIGHT
DTSTART:20240331T030000
TZOFFSETFROM:+0100
TZOFFSETTO:+0200
TZNAME:CEST
END:DAYLIGHT
END:VTIMEZONE
END:VCALENDAR