BEGIN:VCALENDAR
VERSION:2.0
PRODID:-//wp-events-plugin.com//7.2.3.1//EN
TZID:Europe/Amsterdam
X-WR-TIMEZONE:Europe/Amsterdam
BEGIN:VEVENT
UID:100@stag-club.nl
DTSTART;TZID=Europe/Amsterdam:20240518T090000
DTEND;TZID=Europe/Amsterdam:20240518T170000
DTSTAMP:20240219T141714Z
URL:https://www.stag-club.nl/events/oldtimerdag-zoetermeer-2024/
SUMMARY:Oldtimerdag Zoetermeer 2024
DESCRIPTION:\nDe 22e editie van de Oldtimerdag Zoetermeer heeft in 2024 als
  thema Engeland ! Na vorig jaar thema Italië is dit jaar Engeland aan de 
 beurt – met speciale aandacht voor het 100-jarig bestaan van MG. Elk jaa
 r hebben wij een thema waar wij (en de winkeliers) die dag alle acties aan
  ophangen. Maar ook andere klassiekers zijn van harte welkom\, zolang de a
 uto maar 35 jaar of ouder is (of héél bijzonder). Zusterclub CTH (Club T
 riumph Holland) zal op deze dag aanwezig zijn! \n\n 
LOCATION:Zoetermeer\, Osylaan\, Zoetermeer\, Nederland
GEO:52.056563;4.499783
X-APPLE-STRUCTURED-LOCATION;VALUE=URI;X-ADDRESS=Osylaan\, Zoetermeer\, Nede
 rland;X-APPLE-RADIUS=100;X-TITLE=Zoetermeer:geo:52.056563,4.499783
END:VEVENT
BEGIN:VTIMEZONE
TZID:Europe/Amsterdam
X-LIC-LOCATION:Europe/Amsterdam
BEGIN:DAYLIGHT
DTSTART:20240331T030000
TZOFFSETFROM:+0100
TZOFFSETTO:+0200
TZNAME:CEST
END:DAYLIGHT
END:VTIMEZONE
END:VCALENDAR