BEGIN:VCALENDAR
VERSION:2.0
PRODID:-//wp-events-plugin.com//7.2.3.1//EN
TZID:Europe/Amsterdam
X-WR-TIMEZONE:Europe/Amsterdam
BEGIN:VEVENT
UID:110@stag-club.nl
DTSTART;TZID=Europe/Amsterdam:20250116T120000
DTEND;TZID=Europe/Amsterdam:20250119T180000
DTSTAMP:20241105T120903Z
URL:https://www.stag-club.nl/events/interclassics-maastricht-2025/
SUMMARY:Interclassics Maastricht 2025
DESCRIPTION:Al jaren de bekende start van het klassiekerjaar: Interclassics
  in MECC Maastricht!\n\nInterClassics Maastricht vindt in 2025 plaats van 
 16 t/m 19 januari. Dit jaar viert de beurs het 30-jarig bestaan. Hierbij z
 ijn bezoekers uitgenodigd om te stemmen op hun favoriete auto’s uit de a
 fgelopen 30 jaar. In 2 stemrondes kon er gekozen worden uit meer dan 100 e
 xclusieve oldtimers en supercars. Hieruit bleek de Ferrari 250SWB de publi
 eksfavoriet. Dat is nu ook de posterauto onder andere op de website van he
 t evenement.\n\nOok dit jaar geven weer vele  dealers\, bedrijven\, clubs
  en merken acte de presence. Een kaartje bestellen kan via de website van 
 het evenement. Vooraf kopen kan een paar € - en de wachtrij - schelen! N
 ieuw dit jaar: rondleidingen! Er zijn verschillende tijdsloten op alle beu
 rsdagen beschikbaar. De rondleiding duurt 30-45 minuten.\n\nLet op: de ex
 acte openingstijden zijn op een aantal dagen wat ruimer dan in de agenda a
 angegeven:\n16 januari 12:00 - 20:00\n17 januari 10:00 - 21:00\n18-19 janu
 ari 09:00 - 18:00
LOCATION:MECC Maastricht\, Forum 100\, Maastricht\, Nederland
GEO:50.8378;5.713267
X-APPLE-STRUCTURED-LOCATION;VALUE=URI;X-ADDRESS=Forum 100\, Maastricht\, Ne
 derland;X-APPLE-RADIUS=100;X-TITLE=MECC Maastricht:geo:50.8378,5.713267
END:VEVENT
BEGIN:VTIMEZONE
TZID:Europe/Amsterdam
X-LIC-LOCATION:Europe/Amsterdam
BEGIN:STANDARD
DTSTART:20241027T020000
TZOFFSETFROM:+0200
TZOFFSETTO:+0100
TZNAME:CET
END:STANDARD
END:VTIMEZONE
END:VCALENDAR