BEGIN:VCALENDAR
VERSION:2.0
PRODID:-//wp-events-plugin.com//7.2.3.1//EN
TZID:Europe/Amsterdam
X-WR-TIMEZONE:Europe/Amsterdam
BEGIN:VEVENT
UID:105@stag-club.nl
DTSTART;TZID=Europe/Amsterdam:20241123T100000
DTEND;TZID=Europe/Amsterdam:20241124T170000
DTSTAMP:20241031T111758Z
URL:https://www.stag-club.nl/events/eelde-classics-2024/
SUMMARY:Eelde Classics 2024
DESCRIPTION:\n\n\n\n\n\n\n\nOp zaterdag 23 en zondag 24 november vindt de E
 elde Classics 2024 plaats. Dit is een vervolg op de zeer geslaagde versies
  van 2022&amp\;2023\, die toen in samenwerking met Autotron Rosmalen werde
 n georganiseerd in de hallen van Flowerdome Eelde.\n\nOok dit jaar is er v
 an alles te zien voor de liefhebbers van klassiek vervoer: Auto’s van al
 lerlei merken - van pre-war tot youngtimers\, bedrijfswagens\, brommers en
  fietsen met hulpmotor\, bussen\, tractoren\, caravans &amp\; vouwwagens e
 n heel veel ander mobiel erfgoed. Verder zijn er in de hallen vele stands 
 van clubs (o.a. Club Triumph Holland is weer aanwezig)\, handelaren in ond
 erdelen en accessoires en uiteraard horeca.\n\nEen film van 20 minuten met
  een sfeerimpressie is te vinden op Youtube: https://www.youtube.com/watch
 ?v=37rT0sNTUuM (zoek op Jan Eggens eelde classics)\n\n\n\n\n\n\n\n\n\n\n\n
 \n\n\n\n\nDe toegangsprijs bedraagt online € 15\,00 per entreeticket. Ki
 nderen t/m 12 jaar hebben onder begeleiding van een volwassene gratis toeg
 ang. Parkeren is gratis.  Tickets online zijn € 2\,00 per stuk voordel
 iger dan aan de deur: bestel ze alvast HIER.\n\n\n\n\n\n\n\n
LOCATION:Flowerdome Eelde\, Burg. J.G.Legroweg 80\, Eelde\, Drenthe\, 9761 
 TD\, Nederland
GEO:53.126265;6.599782
X-APPLE-STRUCTURED-LOCATION;VALUE=URI;X-ADDRESS=Burg. J.G.Legroweg 80\, Eel
 de\, Drenthe\, 9761 TD\, Nederland;X-APPLE-RADIUS=100;X-TITLE=Flowerdome E
 elde:geo:53.126265,6.599782
END:VEVENT
BEGIN:VTIMEZONE
TZID:Europe/Amsterdam
X-LIC-LOCATION:Europe/Amsterdam
BEGIN:STANDARD
DTSTART:20241027T020000
TZOFFSETFROM:+0200
TZOFFSETTO:+0100
TZNAME:CET
END:STANDARD
END:VTIMEZONE
END:VCALENDAR