BEGIN:VCALENDAR
VERSION:2.0
PRODID:-//wp-events-plugin.com//7.2.3.1//EN
TZID:Europe/Amsterdam
X-WR-TIMEZONE:Europe/Amsterdam
BEGIN:VEVENT
UID:112@stag-club.nl
DTSTART;TZID=Europe/Amsterdam:20250315T100000
DTEND;TZID=Europe/Amsterdam:20250315T170000
DTSTAMP:20250116T210418Z
URL:https://www.stag-club.nl/events/alv-2025-stag-club-nederland/
SUMMARY:ALV 2025 - Stag Club Nederland
DESCRIPTION:Op zaterdag 15 maart starten we het nieuwe seizoen van de club 
 met de ALV.\nDeze zal plaats vinden in Restaurant DE HOF\, Arnhemseweg 3 t
 e Renswoude.\n- Inloop vanaf 10:00 uur\n- Start vergadering 10:30 uur\n- L
 unch om 12:30 uur\n\nAansluitend tourrit.\nKosten maximaal € 20\,-.
LOCATION:Restaurant DE HOF\, Arnhemseweg 3\, Renswoude\, Nederland
GEO:52.062867;5.555217
X-APPLE-STRUCTURED-LOCATION;VALUE=URI;X-ADDRESS=Arnhemseweg 3\, Renswoude\,
  Nederland;X-APPLE-RADIUS=100;X-TITLE=Restaurant DE HOF:geo:52.062867,5.55
 5217
END:VEVENT
BEGIN:VTIMEZONE
TZID:Europe/Amsterdam
X-LIC-LOCATION:Europe/Amsterdam
BEGIN:STANDARD
DTSTART:20241027T020000
TZOFFSETFROM:+0200
TZOFFSETTO:+0100
TZNAME:CET
END:STANDARD
END:VTIMEZONE
END:VCALENDAR