BEGIN:VCALENDAR
VERSION:2.0
PRODID:-//wp-events-plugin.com//7.2.3.1//EN
TZID:Europe/Amsterdam
X-WR-TIMEZONE:Europe/Amsterdam
BEGIN:VEVENT
UID:96@stag-club.nl
DTSTART;TZID=Europe/Amsterdam:20240915T100000
DTEND;TZID=Europe/Amsterdam:20240915T170000
DTSTAMP:20240823T090307Z
URL:https://www.stag-club.nl/events/2024-09-15-den-bosch/
SUMMARY:SCN rit tussen Grave en Den Bosch
DESCRIPTION:15 september komt er aan\, met een mooie rit door het oosten va
 n Brabant tussen Grave en Den Bosch.\n\nDe ontvangst is in restaurant het 
 Bomenpark\, Vorsselweg 3 te Heesch (https://bomenpark.nl )en is gelegen aa
 n de rand van een arboretum en nabij de snelweg A59. We worden om 10.00 ve
 rwacht voor de koffie en iets lekkers\, waarna we rond 10.45 op weg gaan. 
 Mocht je wat vroeger arriveren\, kun je dus zelfs nog even de benen strekk
 en in deze mooie omgeving\, want de locatie opent pas om 10.00.\n\nDe rout
 e zal gaan via het dorpelijk gebied\, via dijken en uiterwaarden. We gaan 
 genieten van een bos- en polderlandschap waarvan ik vind dat het één van
  de mooiste delen van Nederland is…\n\nDe lunch wordt geserveerd bij de 
 Bierbrouwerij Oijen\, Kasteelstraat 4 in Oijen. Het Goei Hap Bordje met 1 
 drankje kost ong. € 18\,-. Deze kosten zijn voor eigen rekening.\n\nRond
  de 15.30 arriveren we bij het Jan Cunen museum in Oss\, voor de borrel en
  de hap. Een bezoekje aan dit leuke overzichtelijke museum is gratis vanwe
 ge de landelijke Monumentendag. https://www.museumjancunen.nl/mjcNL/goto20
 .aspx\n\nIndien je wilt deelnemen\, graag opgeven via het e-mailadres: fam
 .debuck@ziggo.nl\, ovv van de namen van alle inzittenden\, inclusief het m
 obiele nummer waarop bereikbaar.\n\nHopelijk tot ziens op de 15e september
 \,\nAndré de Buck
LOCATION:Bomenpark\, Vorsselweg 3\, Heesch\, Nederland
GEO:51.731165;5.558469
X-APPLE-STRUCTURED-LOCATION;VALUE=URI;X-ADDRESS=Vorsselweg 3\, Heesch\, Ned
 erland;X-APPLE-RADIUS=100;X-TITLE=Bomenpark:geo:51.731165,5.558469
END:VEVENT
BEGIN:VTIMEZONE
TZID:Europe/Amsterdam
X-LIC-LOCATION:Europe/Amsterdam
BEGIN:DAYLIGHT
DTSTART:20240331T030000
TZOFFSETFROM:+0100
TZOFFSETTO:+0200
TZNAME:CEST
END:DAYLIGHT
END:VTIMEZONE
END:VCALENDAR