BEGIN:VCALENDAR
VERSION:2.0
PRODID:-//wp-events-plugin.com//7.2.3.1//EN
TZID:Europe/Amsterdam
X-WR-TIMEZONE:Europe/Amsterdam
BEGIN:VEVENT
UID:85@stag-club.nl
DTSTART;TZID=Europe/Amsterdam:20240316T163000
DTEND;TZID=Europe/Amsterdam:20240316T235900
DTSTAMP:20240219T141838Z
URL:https://www.stag-club.nl/events/19e-nacht-van-het-oosten/
SUMMARY:19e Nacht van het Oosten
DESCRIPTION:Club Triumph Holland - Regio Oost organiseert op zaterdag 16 ma
 art 2024 voor de 19e keer de Nacht van het Oosten. Deze rit is in het kade
 r van de samenwerking van de Triumph clubs ook tegen het ledentarief toega
 nkelijk voor leden van andere Triumph clubs! Mis deze nieuwe editie niet e
 n schrijf tijdig in via www.triumph.nl.\n\n
LOCATION:Hof van Colmschate\, Holterweg 104\, Colmschate\, 7429 AH\, Nederl
 and
GEO:52.248565;6.221769
X-APPLE-STRUCTURED-LOCATION;VALUE=URI;X-ADDRESS=Holterweg 104\, Colmschate\
 , 7429 AH\, Nederland;X-APPLE-RADIUS=100;X-TITLE=Hof van Colmschate:geo:52
 .248565,6.221769
END:VEVENT
BEGIN:VTIMEZONE
TZID:Europe/Amsterdam
X-LIC-LOCATION:Europe/Amsterdam
BEGIN:STANDARD
DTSTART:20231029T020000
TZOFFSETFROM:+0200
TZOFFSETTO:+0100
TZNAME:CET
END:STANDARD
END:VTIMEZONE
END:VCALENDAR